BEGIN:VCALENDAR
VERSION:2.0
PRODID:-//wp-events-plugin.com//7.2.2.1//EN
BEGIN:VEVENT
UID:23@stage.ccfl.fr
DTSTART;TZID=Europe/Paris:20250128T183000
DTEND;TZID=Europe/Paris:20250128T203000
DTSTAMP:20250109T142550Z
URL:https://stage.ccfl.fr/events/les-rendez-vous-de-la-ccfl-nouvelle-annee
 /
SUMMARY:Les Rendez-Vous de la CCFL | Nouvelle Année
DESCRIPTION:\n\nDESCRIPTION\n\nLes Rendez-Vous de la CCFL est un nouveau co
 ncept lancé par la Chambre de Commerce Franco-Libanaise (CCFL). Cet évé
 nement vise à offrir à nos membres une opportunité régulière de se re
 trouver à Paris dans une ambiance conviviale et professionnelle autour d
 ’un cocktail de networking.\n\nOBJECTIFS\n\n 	Proposer un rendez-vous r
 écurrent à nos membres.\n 	Renforcer le réseau professionnel des membre
 s de la CCFL.\n 	Créer un espace d’échange et de partage pour dévelop
 per des synergies d’affaires.\n 	Mettre en relation nos membres avec des
  personnalités influentes et des experts.\n 	Fédérer la communauté d
 ’affaires franco-libanaise à Paris autour d’événements périodiques
 .\n\nRéservé aux membres de la CCFL et aux invités\n\nInscription oblig
 atoire* :  Inscription en ligne - cliquer ici\n\n*Nombre de places limit
 é. Un mail de confirmation vous sera envoyé pour valider votre participa
 tion.
ATTACH;FMTTYPE=image/jpeg:https://stage.ccfl.fr/wp-content/uploads/2025/01
 /RDV-CCFL-Nouvelle-année.png
CATEGORIES:NETWORKING
LOCATION:Ambassade du Liban en France\, 3 Villa Copernic\, Paris\, 75116\, 
 Paris\, France
X-APPLE-STRUCTURED-LOCATION;VALUE=URI;X-ADDRESS=3 Villa Copernic\, Paris\, 
 75116\, Paris\, France;X-APPLE-RADIUS=100;X-TITLE=Ambassade du Liban en Fr
 ance:geo:0,0
END:VEVENT
BEGIN:VTIMEZONE
TZID:Europe/Paris
X-LIC-LOCATION:Europe/Paris
BEGIN:STANDARD
DTSTART:20241027T020000
TZOFFSETFROM:+0200
TZOFFSETTO:+0100
TZNAME:CET
END:STANDARD
END:VTIMEZONE
END:VCALENDAR