BEGIN:VCALENDAR
VERSION:2.0
PRODID:-//wp-events-plugin.com//7.2.2.1//EN
BEGIN:VEVENT
UID:27@stage.ccfl.fr
DTSTART:20250319T160000Z
DTEND:20250319T170000Z
DTSTAMP:20250304T113637Z
URL:https://stage.ccfl.fr/events/le-liban-vers-un-nouveau-depart-reformes-
 defis-et-perspectives-economiques/
SUMMARY:Le Liban : Vers un Nouveau Départ ? Réformes\, Défis et Perspect
 ives Économiques
DESCRIPTION:Réservé aux membres de la CCFL\n\nLe Liban : Vers un Nouveau 
 Départ ? Réformes\, Défis et Perspectives Économiques\n\npar Francois 
 Sporrer\, Chef du service économique régional pour le Proche-Orient à l
 ’Ambassade de France au Liban\n\nLe mercredi 19 mars 2025 à 16h au Cerc
 le de l’Union Interalliée\, Paris 8°\n\nLa rencontre sera suivie de l
 ’Assemblée Générale Annuelle de la CCFL.\n\nPour vous inscrire : insc
 ription en ligne\n\n
ATTACH;FMTTYPE=image/jpeg:https://stage.ccfl.fr/wp-content/uploads/2025/03
 /WhatsApp-Image-2025-03-04-at-12.01.28.jpeg
CATEGORIES:NETWORKING
LOCATION:Cercle de l’Union Interalliée\, 33 Rue du Faubourg Saint-Honor
 é\, Paris\, 75008\, France
X-APPLE-STRUCTURED-LOCATION;VALUE=URI;X-ADDRESS=33 Rue du Faubourg Saint-Ho
 noré\, Paris\, 75008\, France;X-APPLE-RADIUS=100;X-TITLE=Cercle de l’Un
 ion Interalliée:geo:0,0
END:VEVENT
END:VCALENDAR